BEGIN:VCALENDAR
VERSION:2.0
PRODID:-//Het Brabants Jazzorkest//NONSGML kigkonsult.se iCalcreator 2.30.1
 0//
CALSCALE:GREGORIAN
METHOD:PUBLISH
UID:0b2e687c-f31d-45da-8da2-e55ffac5e01f
X-WR-CALNAME:iCagenda
X-WR-CALDESC:Event Management Extension for Joomla!
X-WR-RELCALID:3E26604A-50F4-4449-8B3E-E4F4932D05B5
X-WR-TIMEZONE:UTC
BEGIN:VTIMEZONE
TZID:UTC
END:VTIMEZONE
BEGIN:VEVENT
UID:3789e743-0a3d-46bb-abe7-15e136012360
DTSTAMP:20260426T012025Z
CATEGORIES:Agenda
CLASS:PUBLIC
DESCRIPTION;ALTREP="CID:<FFFF__=0ABBE548DFE235B58f9e8a93d@coffeebean.com>":
 De levendige Brabantse jazzscene heeft veel te danken aan pianist/bassist/
 componist Niko Langenhuijsen. Vanaf begin jaren zeventig\, toen jazz- en g
 eïmproviseerde muziek stormachtige ontwikkelingen doormaakten\, richtte hi
 j groepen op\, organiseerde workshops en sessies en stond aan de wieg van 
 podium Paradox in Tilburg.Het was in deze periode dat Niko experimenteerde
  met zijn groepen Ohm\, Gemeentereinigingsorkest Vaalbleek en Caoutchouc. 
 Hij ging daarmee een eigen onafhankelijke koers varen die geïnspireerd was
  door gecomponeerde en geïmproviseerde muziek.\nVeel muzikanten voeren in 
 zijn kielzog mee. De ‘Tilburgse School’ verwees naar de ontstane jazz-voed
 ingsbodem waar veel Brabantse muzikanten de vruchten van plukten. Een jazz
 scene die tot nu toe uniek is in het Nederlandse landschap.\nHet Brabants 
 Jazz Orkest o.l.v. Jeroen Doomernik en Niko Langenhuijsen hebben een goede
  muzikale band. Een eerdere samenwerking was er met hun cd FREEDOM (2007).
  In 2017 schreef Langenhuijsen speciaal ter gelegenheid van November Music
  voor Het Brabants Jazz Orkest nieuw werk. Het resulteerde in een wonderli
 jk spel met contexten\, waarbij hij toverde met melodische en ritmische co
 mponenten\, manier van orkestratie en de rol die een speler of instrument 
 kan hebben. Ook korte aangeleverde motieven van de bandleden wist hij te v
 erwerken in de prachtige compositie met de titel ‘Samples’.\nHet plan lag 
 er al eerder om deze muziek op cd te zetten. Na de pandemie zijn de muzika
 nten de DJC studio ingedoken en nu is hij er! Een mooi moment\, een halve 
 eeuw na het begin van de roemruchte Brabantse jazzperiode. ERA\, de titel 
 van de cd\, is toevalligerwijs ook de laatst toegevoegde compositie aan he
 t album van deze icoon van de Nederlandse en bovenal Brabantse Jazz.\nBand
 leider: Jeroen DoomernikSaxen: Thom Kooijmans\, Albert van Veldhuizen\, Pa
 ul van de Oever\, Hans Boschman\, Joost van BuchemTrombones: Arjen Reeser\
 , Léon van Balkom\, Robert Mikhout\, Arjen BosTrompetten: Hans Bloemen\, W
 illiam Kroot\, Simon Bruul\, Jeroen den Teuling\, Ruud VerkoeijenPiano: Jo
 ris ReutelingspergerGitaar: Joost van SprundelBas: Bas CooijmansSlagwerk: 
 Bennie van der Doelen\nTICKETS 17\,50 excl. servicekosten\nBekijk achtergr
 ond van het project
DTSTART:20221019T203000Z
DTEND:20221019T223000Z
GEO:00;0
LOCATION:Podium Breble\, Nijmegen
ORGANIZER:
SEQUENCE:1
SUMMARY:ERA - CD PRESENTATIE
TRANSP:OPAQUE
URL:https://www.hetbrabantsjazzorkest.nl/agenda/optredens-in-het-verleden/e
 ra-cd-presentatie
END:VEVENT
END:VCALENDAR
